BEGIN:VCALENDAR
VERSION:2.0
PRODID:-//Watterclub Unterland - ECPv6.15.20//NONSGML v1.0//EN
CALSCALE:GREGORIAN
METHOD:PUBLISH
X-ORIGINAL-URL:https://www.watterclub.at
X-WR-CALDESC:Veranstaltungen für Watterclub Unterland
REFRESH-INTERVAL;VALUE=DURATION:PT1H
X-Robots-Tag:noindex
X-PUBLISHED-TTL:PT1H
BEGIN:VTIMEZONE
TZID:UTC
BEGIN:STANDARD
TZOFFSETFROM:+0000
TZOFFSETTO:+0000
TZNAME:UTC
DTSTART:20150101T000000
END:STANDARD
END:VTIMEZONE
BEGIN:VEVENT
DTSTART;TZID=UTC:20160319T150000
DTEND;TZID=UTC:20160319T235500
DTSTAMP:20260425T105502
CREATED:20160224T072414Z
LAST-MODIFIED:20160319T214354Z
UID:805-1458399600-1458431700@www.watterclub.at
SUMMARY:28. Preiswatten des Watterclub Unterland
DESCRIPTION:
URL:https://www.watterclub.at/veranstaltung/28-preiswatten-des-watterclub-unterland/
END:VEVENT
END:VCALENDAR