BEGIN:VCALENDAR
VERSION:2.0
PRODID:-//Watterclub Unterland - ECPv6.15.20//NONSGML v1.0//EN
CALSCALE:GREGORIAN
METHOD:PUBLISH
X-ORIGINAL-URL:https://www.watterclub.at
X-WR-CALDESC:Veranstaltungen für Watterclub Unterland
REFRESH-INTERVAL;VALUE=DURATION:PT1H
X-Robots-Tag:noindex
X-PUBLISHED-TTL:PT1H
BEGIN:VTIMEZONE
TZID:UTC
BEGIN:STANDARD
TZOFFSETFROM:+0000
TZOFFSETTO:+0000
TZNAME:UTC
DTSTART:20150101T000000
END:STANDARD
END:VTIMEZONE
BEGIN:VEVENT
DTSTART;TZID=UTC:20161203T140000
DTEND;TZID=UTC:20161203T235500
DTSTAMP:20260424T194027
CREATED:20160831T154810Z
LAST-MODIFIED:20160831T154830Z
UID:919-1480773600-1480809300@www.watterclub.at
SUMMARY:Weihnachtsfeier Kramsach
DESCRIPTION:
URL:https://www.watterclub.at/veranstaltung/weihnachtsfeier-kramsach/
END:VEVENT
END:VCALENDAR