BEGIN:VCALENDAR
VERSION:2.0
PRODID:-//Watterclub Unterland - ECPv6.15.20//NONSGML v1.0//EN
CALSCALE:GREGORIAN
METHOD:PUBLISH
X-WR-CALNAME:Watterclub Unterland
X-ORIGINAL-URL:https://www.watterclub.at
X-WR-CALDESC:Veranstaltungen für Watterclub Unterland
REFRESH-INTERVAL;VALUE=DURATION:PT1H
X-Robots-Tag:noindex
X-PUBLISHED-TTL:PT1H
BEGIN:VTIMEZONE
TZID:UTC
BEGIN:STANDARD
TZOFFSETFROM:+0000
TZOFFSETTO:+0000
TZNAME:UTC
DTSTART:20160101T000000
END:STANDARD
END:VTIMEZONE
BEGIN:VEVENT
DTSTART;TZID=UTC:20170805T140000
DTEND;TZID=UTC:20170805T235500
DTSTAMP:20260424T045157
CREATED:20170801T053601Z
LAST-MODIFIED:20170801T053653Z
UID:1096-1501941600-1501977300@www.watterclub.at
SUMMARY:Grillfest
DESCRIPTION:Grillfest im Hotel Linde Wörgl
URL:https://www.watterclub.at/veranstaltung/grillfest/
END:VEVENT
END:VCALENDAR