BEGIN:VCALENDAR
VERSION:2.0
PRODID:-//Watterclub Unterland - ECPv6.15.20//NONSGML v1.0//EN
CALSCALE:GREGORIAN
METHOD:PUBLISH
X-WR-CALNAME:Watterclub Unterland
X-ORIGINAL-URL:https://www.watterclub.at
X-WR-CALDESC:Veranstaltungen für Watterclub Unterland
REFRESH-INTERVAL;VALUE=DURATION:PT1H
X-Robots-Tag:noindex
X-PUBLISHED-TTL:PT1H
BEGIN:VTIMEZONE
TZID:UTC
BEGIN:STANDARD
TZOFFSETFROM:+0000
TZOFFSETTO:+0000
TZNAME:UTC
DTSTART:20160101T000000
END:STANDARD
END:VTIMEZONE
BEGIN:VEVENT
DTSTART;TZID=UTC:20171014T150000
DTEND;TZID=UTC:20171014T235500
DTSTAMP:20260424T012848
CREATED:20170802T083718Z
LAST-MODIFIED:20170802T084143Z
UID:1116-1507993200-1508025300@www.watterclub.at
SUMMARY:Preiswatten
DESCRIPTION:
URL:https://www.watterclub.at/veranstaltung/preiswatten-3/
END:VEVENT
END:VCALENDAR