BEGIN:VCALENDAR
VERSION:2.0
PRODID:-//Watterclub Unterland - ECPv6.15.20//NONSGML v1.0//EN
CALSCALE:GREGORIAN
METHOD:PUBLISH
X-ORIGINAL-URL:https://www.watterclub.at
X-WR-CALDESC:Veranstaltungen für Watterclub Unterland
REFRESH-INTERVAL;VALUE=DURATION:PT1H
X-Robots-Tag:noindex
X-PUBLISHED-TTL:PT1H
BEGIN:VTIMEZONE
TZID:UTC
BEGIN:STANDARD
TZOFFSETFROM:+0000
TZOFFSETTO:+0000
TZNAME:UTC
DTSTART:20180101T000000
END:STANDARD
END:VTIMEZONE
BEGIN:VEVENT
DTSTART;VALUE=DATE:20190914
DTEND;VALUE=DATE:20190916
DTSTAMP:20260422T110751
CREATED:20190604T093418Z
LAST-MODIFIED:20190604T185649Z
UID:1353-1568419200-1568591999@www.watterclub.at
SUMMARY:Ausflug zum Berggasthof Schatzbergalm
DESCRIPTION:Treffpunkt am 14. 09.2019 bei der Talstation der Schatzbergbahn.\nWir fahren gemeinsam mit der Gondel auf den Schatzberg – im Preis inbegriffen.\nZimmerbezug\, danach Spaziergang oder kaschtln nach Lust und Laune.\nUm 18 Uhr treffen wir uns zum gemeinsamen Abendessen:\nWiener Schnitzel mit Pommes oder Champignonschnitzel mit Reis\nSalatbuffet\nDanach werden wir ein kleines Watterturnier spielen.\nSonntag morgens Frühstücksbuffet – im Preis inbegriffen\nDanach kaschtln nach Lust und Laune und gemütlicher Ausklang unseres Ausflugs. \nSelbstbeteiligung € 25\,00 pro Person
URL:https://www.watterclub.at/veranstaltung/ausflug-zum-berggasthof-schatzbergalm/
LOCATION:Berggasthof Schatzbergalm\, Berggasthof Schatzbergalm\, Wildschönau\, Tirol\, 6313\, Österreich
END:VEVENT
END:VCALENDAR