BEGIN:VCALENDAR
VERSION:2.0
PRODID:-//Watterclub Unterland - ECPv6.15.20//NONSGML v1.0//EN
CALSCALE:GREGORIAN
METHOD:PUBLISH
X-ORIGINAL-URL:https://www.watterclub.at
X-WR-CALDESC:Veranstaltungen für Watterclub Unterland
REFRESH-INTERVAL;VALUE=DURATION:PT1H
X-Robots-Tag:noindex
X-PUBLISHED-TTL:PT1H
BEGIN:VTIMEZONE
TZID:UTC
BEGIN:STANDARD
TZOFFSETFROM:+0000
TZOFFSETTO:+0000
TZNAME:UTC
DTSTART:20190101T000000
END:STANDARD
END:VTIMEZONE
BEGIN:VEVENT
DTSTART;TZID=UTC:20200904T190000
DTEND;TZID=UTC:20200904T230000
DTSTAMP:20260421T155616
CREATED:20200806T193453Z
LAST-MODIFIED:20200806T193453Z
UID:1698-1599246000-1599260400@www.watterclub.at
SUMMARY:Vereinsabend Wörgl
DESCRIPTION:
URL:https://www.watterclub.at/veranstaltung/vereinsabend-woergl-7/
LOCATION:Volkshaus Wörgl\, Anton-Bruckner-Straße 10\, 6300 Wörgl\, Tirol\, 6300\, Österreich
CATEGORIES:Termine
END:VEVENT
END:VCALENDAR