BEGIN:VCALENDAR
VERSION:2.0
PRODID:-//Watterclub Unterland - ECPv6.15.20//NONSGML v1.0//EN
CALSCALE:GREGORIAN
METHOD:PUBLISH
X-ORIGINAL-URL:https://www.watterclub.at
X-WR-CALDESC:Veranstaltungen für Watterclub Unterland
REFRESH-INTERVAL;VALUE=DURATION:PT1H
X-Robots-Tag:noindex
X-PUBLISHED-TTL:PT1H
BEGIN:VTIMEZONE
TZID:UTC
BEGIN:STANDARD
TZOFFSETFROM:+0000
TZOFFSETTO:+0000
TZNAME:UTC
DTSTART:20180101T000000
END:STANDARD
END:VTIMEZONE
BEGIN:VEVENT
DTSTART;TZID=UTC:20190615T190000
DTEND;TZID=UTC:20190615T235900
DTSTAMP:20260422T142821
CREATED:20190604T084318Z
LAST-MODIFIED:20190604T091050Z
UID:1340-1560625200-1560643140@www.watterclub.at
SUMMARY:Vereinsabend Wörgl
DESCRIPTION:
URL:https://www.watterclub.at/veranstaltung/vereinsabend-woergl-3/
LOCATION:Volkshaus Wörgl\, Anton-Bruckner-Straße 10\, 6300 Wörgl\, Tirol\, 6300\, Österreich
END:VEVENT
END:VCALENDAR